BEGIN:VCALENDAR
VERSION:2.0
PRODID:icalendar-ruby
CALSCALE:GREGORIAN
METHOD:PUBLISH
BEGIN:VEVENT
DTSTAMP:20260420T163033Z
UID:88-610202@joyfellowshipwc.com
DTSTART:20260425T220000Z
DTEND:20260426T000000Z
CLASS:PUBLIC
CREATED:20260414T162507
DESCRIPTION:The Loft is a worship night designed for ages 15–30\, created
  as a relaxed\, welcoming space to encounter God and connect with others.\
 nJoin us for an evening of worship\, fellowship\, and prayer\, with time t
 o slow down\, reflect\, and seek the presence of God together. We’ll als
 o have a special treat each month to enjoy while we hang out and build com
 munity.\nWhether you’re deeply rooted in your faith or just looking for 
 a place to belong\, you’re invited.\nTime: 6:00 PMWhere: The LOFT at Joy
  Fellowship ChurchWho: Ages 15–30\nCome as you are — bring a friend an
 d stay awhile.
LAST-MODIFIED:20260414T162507
LOCATION:1001 Perrymont Road - The Upper Room 
SUMMARY:The LOFT - Young Adults
URL;VALUE=URI:https://www.joyfellowshipwc.com/events/the-loft-young-adults/
 2026-04-25
ATTACH;FILENAME=Dhd-3.PNG;FMTTYPE=image/png:https://dq5pwpg1q8ru0.cloudfron
 t.net/2026/04/14/20/24/35/39d6bade-28e1-45e4-810d-1b5561a25941/Dhd-3.PNG
END:VEVENT
END:VCALENDAR
